BEGIN:VCALENDAR
VERSION:2.0
PRODID:-//Tukios.com/
BEGIN:VEVENT
UID:606d70f9-b838-4f2c-aca1-3c3ca54d2d4e@www.geschefh.com
DTSTAMP:20260421T225659Z
DTSTART:20260523T150000Z
DTEND:20260523T160000Z
SUMMARY:Public Visitation
DESCRIPTION:
URL:https://www.geschefh.com/obituaries/gladys-karl
LOCATION:Pine Valley - Zion Lutheran Church W6867 Granton Road  
	Neillsville WI 54456
GEO:44.5815156;-90.6579145
END:VEVENT
END:VCALENDAR