BEGIN:VCALENDAR
VERSION:2.0
PRODID:-//Tukios.com/
BEGIN:VEVENT
UID:11d24418-5125-44b0-99fe-21ea40807e25@www.geschefh.com
DTSTAMP:20260421T225444Z
DTSTART:20260523T160000Z
DTEND:20260523T164500Z
SUMMARY:Memorial Service
DESCRIPTION:
URL:https://www.geschefh.com/obituaries/gladys-karl
LOCATION:Pine Valley - Zion Lutheran Church W6867 Granton Road  
	Neillsville WI 54456
GEO:44.5815156;-90.6579145
END:VEVENT
END:VCALENDAR