BEGIN:VCALENDAR
VERSION:2.0
PRODID:-//Tukios.com/
BEGIN:VEVENT
UID:665240d3-6065-4962-9545-1a41233aa800@www.geschefh.com
DTSTAMP:20260421T230109Z
DTSTART:20260523T170000Z
DTEND:20260523T171000Z
SUMMARY:Graveside Service
DESCRIPTION:
URL:https://www.geschefh.com/obituaries/gladys-karl
LOCATION:Neillsville City Cemetery 811 East 15th Street  Neillsville WI 
	54456
GEO:44.5671257;-90.5800761
END:VEVENT
END:VCALENDAR