BEGIN:VCALENDAR
VERSION:2.0
PRODID:-//Tukios.com/
BEGIN:VEVENT
UID:94ab104b-89e0-4b8d-b6b0-9cfca5f17961@www.geschefh.com
DTSTAMP:20260421T225659Z
DTSTART:20260523T173000Z
DTEND:20260523T193000Z
SUMMARY:Reception
DESCRIPTION:
URL:https://www.geschefh.com/obituaries/gladys-karl
LOCATION:Pine Valley - Zion Lutheran Church W6867 Granton Road  
	Neillsville WI 54456
GEO:44.5815156;-90.6579145
END:VEVENT
END:VCALENDAR