BEGIN:VCALENDAR
VERSION:2.0
PRODID:-//Tukios.com/
BEGIN:VEVENT
UID:76cb37fa-ea3b-4c71-8243-f0b5a03fa7f2@www.geschefh.com
DTSTAMP:20260425T010810Z
DTSTART:20260501T210000Z
DTEND:20260502T000000Z
SUMMARY:Public Visitation
DESCRIPTION:
URL:https://www.geschefh.com/obituaries/daniel-anderson
LOCATION:Gesche Funeral Home 4 South Grand Avenue  Neillsville WI 54456
GEO:44.5522768;-90.5990197
END:VEVENT
END:VCALENDAR