BEGIN:VCALENDAR
VERSION:2.0
PRODID:-//Tukios.com/
BEGIN:VEVENT
UID:7c92e03f-3f1f-4934-837a-5d9324b918ac@www.geschefh.com
DTSTAMP:20260425T010857Z
DTSTART:20260502T150000Z
DTEND:20260502T160000Z
SUMMARY:Public Visitation
DESCRIPTION:
URL:https://www.geschefh.com/obituaries/daniel-anderson
LOCATION:Calvary Lutheran Church 213 Hill Street  Neillsville WI 54456
GEO:44.5569381;-90.6053893
END:VEVENT
END:VCALENDAR