BEGIN:VCALENDAR
VERSION:2.0
PRODID:-//Tukios.com/
BEGIN:VEVENT
UID:50a1f5e4-bb80-4ec2-a852-ee24899614af@www.geschefh.com
DTSTAMP:20260425T010443Z
DTSTART:20260502T160000Z
DTEND:20260502T164500Z
SUMMARY:Memorial Service
DESCRIPTION:
URL:https://www.geschefh.com/obituaries/daniel-anderson
LOCATION:Calvary Lutheran Church 213 Hill Street  Neillsville WI 54456
GEO:44.5569381;-90.6053893
END:VEVENT
END:VCALENDAR