BEGIN:VCALENDAR
VERSION:2.0
PRODID:-//Tukios.com/
BEGIN:VEVENT
UID:261cf7b3-1dc1-4dd1-9fa0-2ac680b91b71@www.geschefh.com
DTSTAMP:20260425T010632Z
DTSTART:20260502T170000Z
DTEND:20260502T190000Z
SUMMARY:Reception
DESCRIPTION:
URL:https://www.geschefh.com/obituaries/daniel-anderson
LOCATION:Calvary Lutheran Church 213 Hill Street  Neillsville WI 54456
GEO:44.5569381;-90.6053893
END:VEVENT
END:VCALENDAR